BEGIN:VCALENDAR
PRODID:-//http://statistik.d-u-v.org//PHP ultracalendar//EN
VERSION:2.0
METHOD:PUBLISH
BEGIN:VEVENT
DTSTAMP:20260424T155208
CREATED:20231221T145501
UID:1777045928.0.65199400-103641@statistik.d-u-v.org
SUMMARY:The Eternal Damnation Backyard
DESCRIPTION: The Eternal Damnation Backyard\n
  Chase Hammond\n
  info[at]ultraversesupplements.com
DTSTART:20240420T080000
DTEND:20240421T235900
LOCATION:Sylvan Grove, KS\, USA
URL:https://ultraversesupplements.com/our-races/eternal-damnation-backyard-ultra
CATEGORIES:Ultramarathon
CONTACT:Chase Hammond
CLASS:PUBLIC
PRIORITY:5
TRANSP:OPAQUE
END:VEVENT
END:VCALENDAR
