BEGIN:VCALENDAR
PRODID:-//http://statistik.d-u-v.org//PHP ultracalendar//EN
VERSION:2.0
METHOD:PUBLISH
BEGIN:VEVENT
DTSTAMP:20260423T033702
CREATED:20231221T145319
UID:1776915422.0.39861600-103640@statistik.d-u-v.org
SUMMARY:Grind on the Grid Backyard Ultra
DESCRIPTION: Grind on the Grid Backyard Ultra\n
  \n
  runningvet100[at]gmail.com
DTSTART:20240427T070000
DTEND:20240428T235900
LOCATION:Veedersburg, IN\, USA
URL:https://calendar.ultrarunning.com/event/grind-on-the-grid-backyard-ultra
CATEGORIES:Ultramarathon
CONTACT:
CLASS:PUBLIC
PRIORITY:5
TRANSP:OPAQUE
END:VEVENT
END:VCALENDAR
