BEGIN:VCALENDAR
PRODID:-//http://statistik.d-u-v.org//PHP ultracalendar//EN
VERSION:2.0
METHOD:PUBLISH
BEGIN:VEVENT
DTSTAMP:20260420T044129
CREATED:20231221T080453
UID:1776660089.0.77957800-103626@statistik.d-u-v.org
SUMMARY:Ida-Virumaa 24 Hour Stadium Run
DESCRIPTION: Ida-Virumaa 24 Hour Stadium Run\n
  Aet Kiisla\n
  aet.kiisla[at]gmail.com
DTSTART:20240608T120000
DTEND:20240609T120000
LOCATION:Kohtla-Nomme\, EST
URL:http://gurmeejooksud.ee
CATEGORIES:Ultramarathon
CONTACT:Aet Kiisla
CLASS:PUBLIC
PRIORITY:5
TRANSP:OPAQUE
END:VEVENT
END:VCALENDAR
