BEGIN:VCALENDAR
PRODID:-//http://statistik.d-u-v.org//PHP ultracalendar//EN
VERSION:2.0
METHOD:PUBLISH
BEGIN:VEVENT
DTSTAMP:20260424T150852
CREATED:20231220T092824
UID:1777043332.0.47990700-103556@statistik.d-u-v.org
SUMMARY:The Guv'nor Frozen 50
DESCRIPTION: The Guv'nor Frozen 50\n
  \n
  treerootsllc[at]gmail.com
DTSTART:20231202T080000
DTEND:00000000T235900
LOCATION:Dodgeville, WI\, USA
URL:https://www.driftlessendurance.com/the-guv-nor-frozen-50-1
CATEGORIES:Ultramarathon
CONTACT:
CLASS:PUBLIC
PRIORITY:5
TRANSP:OPAQUE
END:VEVENT
END:VCALENDAR
