BEGIN:VCALENDAR
PRODID:-//http://statistik.d-u-v.org//PHP ultracalendar//EN
VERSION:2.0
METHOD:PUBLISH
BEGIN:VEVENT
DTSTAMP:20260423T020730
CREATED:20231218T081006
UID:1776910050.0.54837000-103508@statistik.d-u-v.org
SUMMARY:Tooele Turkey Trail Trot
DESCRIPTION: Tooele Turkey Trail Trot\n
  \n
  jimmyandkimthomas[at]gmail.com
DTSTART:20231125T000000
DTEND:00000000T235900
LOCATION:Ophir, UT\, USA
URL:https://www.facebook.com/tooeletrailracing
CATEGORIES:Ultramarathon
CONTACT:
CLASS:PUBLIC
PRIORITY:5
TRANSP:OPAQUE
END:VEVENT
END:VCALENDAR
