BEGIN:VCALENDAR
PRODID:-//http://statistik.d-u-v.org//PHP ultracalendar//EN
VERSION:2.0
METHOD:PUBLISH
BEGIN:VEVENT
DTSTAMP:20260419T192603
CREATED:20231212T211548
UID:1776626763.0.20058000-103472@statistik.d-u-v.org
SUMMARY:Leavenworth Trail Fest
DESCRIPTION: Leavenworth Trail Fest\n
  Scott Sowle\n
  scott[at]mountainrunningraces.com
DTSTART:20240525T070000
DTEND:00000000T235900
LOCATION:Leavenworth, WA\, USA
URL:https://ultrasignup.com/register.aspx?did=110662
CATEGORIES:Ultramarathon
CONTACT:Scott Sowle
CLASS:PUBLIC
PRIORITY:5
TRANSP:OPAQUE
END:VEVENT
END:VCALENDAR
