BEGIN:VCALENDAR
PRODID:-//http://statistik.d-u-v.org//PHP ultracalendar//EN
VERSION:2.0
METHOD:PUBLISH
BEGIN:VEVENT
DTSTAMP:20260423T033654
CREATED:20231217T161152
UID:1776915414.0.19284900-103437@statistik.d-u-v.org
SUMMARY:Looking Glass 100 km Trail Race
DESCRIPTION: Looking Glass 100 km Trail Race\n
  \n
  
DTSTART:20241116T050000
DTEND:00000000T235900
LOCATION:Pisgah Forest, NC\, USA
URL:https://ultrasignup.com/register.aspx?did=111789
CATEGORIES:Ultramarathon
CONTACT:
CLASS:PUBLIC
PRIORITY:5
TRANSP:OPAQUE
END:VEVENT
END:VCALENDAR
