BEGIN:VCALENDAR
PRODID:-//http://statistik.d-u-v.org//PHP ultracalendar//EN
VERSION:2.0
METHOD:PUBLISH
BEGIN:VEVENT
DTSTAMP:20260419T195346
CREATED:20231217T155802
UID:1776628426.0.61855700-103434@statistik.d-u-v.org
SUMMARY:Tierra Redonda Mountain Trail Run
DESCRIPTION: Tierra Redonda Mountain Trail Run\n
  \n
  
DTSTART:20241116T060000
DTEND:20241117T235900
LOCATION:Bradley, CA\, USA
URL:https://allwedoisrun.com/
CATEGORIES:Ultramarathon
CONTACT:
CLASS:PUBLIC
PRIORITY:5
TRANSP:OPAQUE
END:VEVENT
END:VCALENDAR
