BEGIN:VCALENDAR
PRODID:-//http://statistik.d-u-v.org//PHP ultracalendar//EN
VERSION:2.0
METHOD:PUBLISH
BEGIN:VEVENT
DTSTAMP:20260424T155443
CREATED:20231216T080759
UID:1777046083.0.43925500-103354@statistik.d-u-v.org
SUMMARY:Conference House Endurance Challenge
DESCRIPTION: Conference House Endurance Challenge\n
  \n
  admin[at]completerace.com
DTSTART:20170923T090000
DTEND:00000000T235900
LOCATION:Staten Island, NY\, USA
URL:https://www.completerace.com/site/
CATEGORIES:Ultramarathon
CONTACT:
CLASS:PUBLIC
PRIORITY:5
TRANSP:OPAQUE
END:VEVENT
END:VCALENDAR
