BEGIN:VCALENDAR
PRODID:-//http://statistik.d-u-v.org//PHP ultracalendar//EN
VERSION:2.0
METHOD:PUBLISH
BEGIN:VEVENT
DTSTAMP:20260424T191239
CREATED:20231216T072110
UID:1777057959.0.51205600-103351@statistik.d-u-v.org
SUMMARY:Boundiful 12 Hours Endurance Run - 50mi Split
DESCRIPTION: Boundiful 12 Hours Endurance Run - 50mi Split\n
  Race Directors Jean Ho and Lambert Timmermans\n
  jean[at]trailrunners.org; lt[at]trailrunners.org
DTSTART:20231104T070000
DTEND:00000000T235900
LOCATION:Hemet, CA\, USA
URL:https://ultrasignup.com/register.aspx?did=67398
CATEGORIES:Ultramarathon
CONTACT:Race Directors Jean Ho and Lambert Timmermans
CLASS:PUBLIC
PRIORITY:5
TRANSP:OPAQUE
END:VEVENT
END:VCALENDAR
