BEGIN:VCALENDAR
PRODID:-//http://statistik.d-u-v.org//PHP ultracalendar//EN
VERSION:2.0
METHOD:PUBLISH
BEGIN:VEVENT
DTSTAMP:20260420T070804
CREATED:20231216T060446
UID:1776668884.0.71921500-103343@statistik.d-u-v.org
SUMMARY:Icebox 480 - 8 Hour Run
DESCRIPTION: Icebox 480 - 8 Hour Run\n
  Chris Swenke\n
  stcroixrunningcompany[at]gmail.com
DTSTART:20241102T060000
DTEND:00000000T235900
LOCATION:River Falls, WI\, USA
URL:https://www.stcroixrunningcompany.com/icebox
CATEGORIES:Ultramarathon
CONTACT:Chris Swenke
CLASS:PUBLIC
PRIORITY:5
TRANSP:OPAQUE
END:VEVENT
END:VCALENDAR
