BEGIN:VCALENDAR
PRODID:-//http://statistik.d-u-v.org//PHP ultracalendar//EN
VERSION:2.0
METHOD:PUBLISH
BEGIN:VEVENT
DTSTAMP:20260419T192337
CREATED:20231215T145543
UID:1776626617.0.33020900-103307@statistik.d-u-v.org
SUMMARY:Mamba 100 Km
DESCRIPTION: Mamba 100 Km\n
  \n
  mambatrailrunners[at]gmail.com
DTSTART:20241108T080000
DTEND:20241109T235900
LOCATION:Memphis, TN\, USA
URL:https://www.mambatrailrunners.com/
CATEGORIES:Ultramarathon
CONTACT:
CLASS:PUBLIC
PRIORITY:5
TRANSP:OPAQUE
END:VEVENT
END:VCALENDAR
