BEGIN:VCALENDAR
PRODID:-//http://statistik.d-u-v.org//PHP ultracalendar//EN
VERSION:2.0
METHOD:PUBLISH
BEGIN:VEVENT
DTSTAMP:20260419T185922
CREATED:20231215T141714
UID:1776625162.0.92919700-103302@statistik.d-u-v.org
SUMMARY:Machete Trail Madness 50 Miler
DESCRIPTION: Machete Trail Madness 50 Miler\n
  \n
  
DTSTART:20241101T173000
DTEND:20241102T133000
LOCATION:Perris, CA\, USA
URL:https://www.machetemadness.com/
CATEGORIES:Ultramarathon
CONTACT:
CLASS:PUBLIC
PRIORITY:5
TRANSP:OPAQUE
END:VEVENT
END:VCALENDAR
