BEGIN:VCALENDAR
PRODID:-//http://statistik.d-u-v.org//PHP ultracalendar//EN
VERSION:2.0
METHOD:PUBLISH
BEGIN:VEVENT
DTSTAMP:20260423T053929
CREATED:20231215T002350
UID:1776922769.0.08788700-103291@statistik.d-u-v.org
SUMMARY:Grand Raid des Pyrénées - Tour des Cirques
DESCRIPTION: Grand Raid des Pyrénées - Tour des Cirques\n
  \n
  contact[at]grandraidpyrenees.com
DTSTART:20240823T070000
DTEND:20240824T235900
LOCATION:Piau-Engaly\, FRA
URL:https://www.grandraidpyrenees.com
CATEGORIES:Ultramarathon
CONTACT:
CLASS:PUBLIC
PRIORITY:5
TRANSP:OPAQUE
END:VEVENT
END:VCALENDAR
