BEGIN:VCALENDAR
PRODID:-//http://statistik.d-u-v.org//PHP ultracalendar//EN
VERSION:2.0
METHOD:PUBLISH
BEGIN:VEVENT
DTSTAMP:20260423T012145
CREATED:20231210T184323
UID:1776907305.0.70697400-103245@statistik.d-u-v.org
SUMMARY:Sowi BackYard Ultra
DESCRIPTION: Sowi BackYard Ultra\n
  Lukasz Bienias\n
  fundacja[at]osiagnijcel.pl
DTSTART:20240524T120000
DTEND:20240526T230000
LOCATION:Bielawa\, POL
URL:http://www.facebook.com/SowiBackyardUltra
CATEGORIES:Ultramarathon
CONTACT:Lukasz Bienias
CLASS:PUBLIC
PRIORITY:5
TRANSP:OPAQUE
END:VEVENT
END:VCALENDAR
