BEGIN:VCALENDAR
PRODID:-//http://statistik.d-u-v.org//PHP ultracalendar//EN
VERSION:2.0
METHOD:PUBLISH
BEGIN:VEVENT
DTSTAMP:20260422T175643
CREATED:20231210T150104
UID:1776880603.0.27340000-103204@statistik.d-u-v.org
SUMMARY:24h Running Nantes - 6h
DESCRIPTION: 24h Running Nantes - 6h\n
  \n
  24hrunning[at]gmail.com
DTSTART:20240525T120000
DTEND:00000000T235900
LOCATION:Nantes\, FRA
URL:https://time-run-challenge.fr/
CATEGORIES:Ultramarathon
CONTACT:
CLASS:PUBLIC
PRIORITY:5
TRANSP:OPAQUE
END:VEVENT
END:VCALENDAR
