BEGIN:VCALENDAR
PRODID:-//http://statistik.d-u-v.org//PHP ultracalendar//EN
VERSION:2.0
METHOD:PUBLISH
BEGIN:VEVENT
DTSTAMP:20260423T043503
CREATED:20231209T201233
UID:1776918903.0.32664300-103183@statistik.d-u-v.org
SUMMARY:KRS Ultra
DESCRIPTION: KRS Ultra\n
  Thomas Øderud\n
  thomas[at]oederud.com
DTSTART:20240413T080000
DTEND:00000000T235900
LOCATION:Kristiansand\, NOR
URL:http://krsultra.no
CATEGORIES:Ultramarathon
CONTACT:Thomas Øderud
CLASS:PUBLIC
PRIORITY:5
TRANSP:OPAQUE
END:VEVENT
END:VCALENDAR
