BEGIN:VCALENDAR
PRODID:-//http://statistik.d-u-v.org//PHP ultracalendar//EN
VERSION:2.0
METHOD:PUBLISH
BEGIN:VEVENT
DTSTAMP:20260423T022823
CREATED:20231204T133228
UID:1776911303.0.12834400-102982@statistik.d-u-v.org
SUMMARY:6 godzin pełnej MOCY
DESCRIPTION: 6 godzin pełnej MOCY\n
  Paweł Żuk\n
  pawel.zuk1[at]op.pl
DTSTART:20240420T090000
DTEND:00000000T235900
LOCATION:Warszawa\, POL
URL:https://www.facebook.com/6godzinpelnejmocy
CATEGORIES:Ultramarathon
CONTACT:Paweł Żuk
CLASS:PUBLIC
PRIORITY:5
TRANSP:OPAQUE
END:VEVENT
END:VCALENDAR
