BEGIN:VCALENDAR
PRODID:-//http://statistik.d-u-v.org//PHP ultracalendar//EN
VERSION:2.0
METHOD:PUBLISH
BEGIN:VEVENT
DTSTAMP:20260423T041149
CREATED:20231204T175710
UID:1776917509.0.78166900-102977@statistik.d-u-v.org
SUMMARY:Le Bretagne Ultra Trail 112km
DESCRIPTION: Le Bretagne Ultra Trail 112km\n
  \n
  bretagne.ultratrail[at]gmail.com; armor-argoat[at]hotmail.fr
DTSTART:20240427T050000
DTEND:00000000T235900
LOCATION:Quistinic\, FRA
URL:https://www.klikego.com/inscription/bretagne-ultra-trail-2024--challenge-armor-argoat-2024/running-course-a-pied/1509226817964-12
CATEGORIES:Ultramarathon
CONTACT:
CLASS:PUBLIC
PRIORITY:5
TRANSP:OPAQUE
END:VEVENT
END:VCALENDAR
