BEGIN:VCALENDAR
PRODID:-//http://statistik.d-u-v.org//PHP ultracalendar//EN
VERSION:2.0
METHOD:PUBLISH
BEGIN:VEVENT
DTSTAMP:20260423T033700
CREATED:20231203T170354
UID:1776915420.0.85093000-102950@statistik.d-u-v.org
SUMMARY:Ultra Trail des Balcons d'Azur
DESCRIPTION: Ultra Trail des Balcons d'Azur\n
  Philippe Cordero\n
  philippe.cordero[at]traildazur.com
DTSTART:20240414T053000
DTEND:00000000T235900
LOCATION:Mandelieu-la-Napoule\, FRA
URL:http://www.traildazur.com
CATEGORIES:Ultramarathon
CONTACT:Philippe Cordero
CLASS:PUBLIC
PRIORITY:5
TRANSP:OPAQUE
END:VEVENT
END:VCALENDAR
