BEGIN:VCALENDAR
PRODID:-//http://statistik.d-u-v.org//PHP ultracalendar//EN
VERSION:2.0
METHOD:PUBLISH
BEGIN:VEVENT
DTSTAMP:20260423T055345
CREATED:20231130T164528
UID:1776923625.0.61102700-102916@statistik.d-u-v.org
SUMMARY:Mozart 100
DESCRIPTION: Mozart 100\n
  Claudia Kolussi\n
  mozart100[at]service.byutmb.world
DTSTART:20240601T050000
DTEND:00000000T235900
LOCATION:Salzburg\, AUT
URL:https://mozart.utmb.world/races-runners/races/mozart100
CATEGORIES:Ultramarathon
CONTACT:Claudia Kolussi
CLASS:PUBLIC
PRIORITY:5
TRANSP:OPAQUE
END:VEVENT
END:VCALENDAR
