BEGIN:VCALENDAR
PRODID:-//http://statistik.d-u-v.org//PHP ultracalendar//EN
VERSION:2.0
METHOD:PUBLISH
BEGIN:VEVENT
DTSTAMP:20260423T055217
CREATED:20201025T173457
UID:1776923537.0.18933600-10291@statistik.d-u-v.org
SUMMARY:Edward Payson Weston Six Day Track Race
DESCRIPTION: Edward Payson Weston Six Day Track Race\n
  \n
  
DTSTART:19840617T000000
DTEND:19840623T235900
LOCATION:Pennsauken, NJ\, USA
URL:
CATEGORIES:Ultramarathon
CONTACT:
CLASS:PUBLIC
PRIORITY:5
TRANSP:OPAQUE
END:VEVENT
END:VCALENDAR
