BEGIN:VCALENDAR
PRODID:-//http://statistik.d-u-v.org//PHP ultracalendar//EN
VERSION:2.0
METHOD:PUBLISH
BEGIN:VEVENT
DTSTAMP:20260423T012424
CREATED:20231130T142728
UID:1776907464.0.17429000-102891@statistik.d-u-v.org
SUMMARY:Burginsellauf Delmenhorst
DESCRIPTION: Burginsellauf Delmenhorst\n
  Birgit Woltjen-Ulbrich\n
  info[at]24-lauf.de
DTSTART:20240727T120000
DTEND:20240728T120000
LOCATION:Delmenhorst\, GER
URL:http://www.24-lauf.de
CATEGORIES:Ultramarathon
CONTACT:Birgit Woltjen-Ulbrich
CLASS:PUBLIC
PRIORITY:5
TRANSP:OPAQUE
END:VEVENT
END:VCALENDAR
