BEGIN:VCALENDAR
PRODID:-//http://statistik.d-u-v.org//PHP ultracalendar//EN
VERSION:2.0
METHOD:PUBLISH
BEGIN:VEVENT
DTSTAMP:20260423T044325
CREATED:20231127T171951
UID:1776919405.0.00439600-102818@statistik.d-u-v.org
SUMMARY:Taiwan Town and Country - Beitun
DESCRIPTION: Taiwan Town and Country - Beitun\n
  \n
  
DTSTART:20240228T060000
DTEND:00000000T235900
LOCATION:Beitun District\, TPE
URL:https://www.focusline.com.tw/40228DJ/Activities/Activities.aspx
CATEGORIES:Ultramarathon
CONTACT:
CLASS:PUBLIC
PRIORITY:5
TRANSP:OPAQUE
END:VEVENT
END:VCALENDAR
