BEGIN:VCALENDAR
PRODID:-//http://statistik.d-u-v.org//PHP ultracalendar//EN
VERSION:2.0
METHOD:PUBLISH
BEGIN:VEVENT
DTSTAMP:20260424T124505
CREATED:20231126T230357
UID:1777034705.0.42870900-102808@statistik.d-u-v.org
SUMMARY:24 heures de L'Isère à Tullins
DESCRIPTION: 24 heures de L'Isère à Tullins\n
  Arnaud Mantoux\n
  24hisere[at]gmail.com
DTSTART:20240406T090000
DTEND:20240407T090000
LOCATION:Tullins\, FRA
URL:http://www.24hisere.fr
CATEGORIES:Ultramarathon
CONTACT:Arnaud Mantoux
CLASS:PUBLIC
PRIORITY:5
TRANSP:OPAQUE
END:VEVENT
END:VCALENDAR
