BEGIN:VCALENDAR
PRODID:-//http://statistik.d-u-v.org//PHP ultracalendar//EN
VERSION:2.0
METHOD:PUBLISH
BEGIN:VEVENT
DTSTAMP:20260419T164712
CREATED:20110306T232545
UID:1776617232.0.06855500-10272@statistik.d-u-v.org
SUMMARY:New York Pioneer Memorial 100 Mile Trek
DESCRIPTION: New York Pioneer Memorial 100 Mile Trek\n
  \n
  rich1239[at]nyc.rr.com
DTSTART:20110528T090000
DTEND:20110530T235900
LOCATION:New York, NY\, USA
URL:http://www.newyorkultrarunning.org/
CATEGORIES:Ultramarathon
CONTACT:
CLASS:PUBLIC
PRIORITY:5
TRANSP:OPAQUE
END:VEVENT
END:VCALENDAR
