BEGIN:VCALENDAR
PRODID:-//http://statistik.d-u-v.org//PHP ultracalendar//EN
VERSION:2.0
METHOD:PUBLISH
BEGIN:VEVENT
DTSTAMP:20260423T033641
CREATED:20231122T073504
UID:1776915401.0.98575800-102698@statistik.d-u-v.org
SUMMARY:WXT Ultra
DESCRIPTION: WXT Ultra\n
  \n
  aaccardo[at]buckscotriclub.com
DTSTART:20241102T000000
DTEND:00000000T235900
LOCATION:Hopewell Township, NJ\, USA
URL:https://www.whpevents.org/wxt-ultra.html/
CATEGORIES:Ultramarathon
CONTACT:
CLASS:PUBLIC
PRIORITY:5
TRANSP:OPAQUE
END:VEVENT
END:VCALENDAR
