BEGIN:VCALENDAR
PRODID:-//http://statistik.d-u-v.org//PHP ultracalendar//EN
VERSION:2.0
METHOD:PUBLISH
BEGIN:VEVENT
DTSTAMP:20260420T052234
CREATED:20231122T045906
UID:1776662554.0.22738700-102696@statistik.d-u-v.org
SUMMARY:Lake to Ocean 100K Winter Edition
DESCRIPTION: Lake to Ocean 100K Winter Edition\n
  \n
  
DTSTART:20231028T060000
DTEND:00000000T235900
LOCATION:Port Mayaka, FL\, USA
URL:https://ultrasignup.com/register.aspx?did=91892
CATEGORIES:Ultramarathon
CONTACT:
CLASS:PUBLIC
PRIORITY:5
TRANSP:OPAQUE
END:VEVENT
END:VCALENDAR
