BEGIN:VCALENDAR
PRODID:-//http://statistik.d-u-v.org//PHP ultracalendar//EN
VERSION:2.0
METHOD:PUBLISH
BEGIN:VEVENT
DTSTAMP:20260422T234905
CREATED:20231121T145825
UID:1776901745.0.27895700-102672@statistik.d-u-v.org
SUMMARY:Free State Trail 40 Miles Run
DESCRIPTION: Free State Trail 40 Miles Run\n
  Ben Holmes\n
  badbendrs[at]yahoo.com
DTSTART:20231028T000000
DTEND:00000000T235900
LOCATION:Lawrence, KS\, USA
URL:http://www.psychowyco.com/
CATEGORIES:Ultramarathon
CONTACT:Ben Holmes
CLASS:PUBLIC
PRIORITY:5
TRANSP:OPAQUE
END:VEVENT
END:VCALENDAR
