BEGIN:VCALENDAR
PRODID:-//http://statistik.d-u-v.org//PHP ultracalendar//EN
VERSION:2.0
METHOD:PUBLISH
BEGIN:VEVENT
DTSTAMP:20260423T022816
CREATED:20231120T092346
UID:1776911296.0.41540900-102639@statistik.d-u-v.org
SUMMARY:Mosquito Hill 6 Hour Endurance Run
DESCRIPTION: Mosquito Hill 6 Hour Endurance Run\n
  \n
  djcoombes237[at]gmail.com
DTSTART:20240817T120000
DTEND:00000000T235900
LOCATION:New London, WI\, USA
URL:https://www.facebook.com/mosquitohillendurancerun/
CATEGORIES:Ultramarathon
CONTACT:
CLASS:PUBLIC
PRIORITY:5
TRANSP:OPAQUE
END:VEVENT
END:VCALENDAR
