BEGIN:VCALENDAR
PRODID:-//http://statistik.d-u-v.org//PHP ultracalendar//EN
VERSION:2.0
METHOD:PUBLISH
BEGIN:VEVENT
DTSTAMP:20260420T044130
CREATED:20231120T092108
UID:1776660090.0.60221500-102636@statistik.d-u-v.org
SUMMARY:Loopet Loppet 12 Hour Run
DESCRIPTION: Loopet Loppet 12 Hour Run\n
  \n
  info[at]loppet.org
DTSTART:20241019T070000
DTEND:00000000T235900
LOCATION:Minneapolis, MN\, USA
URL:https://www.loppet.org/events/loopet/
CATEGORIES:Ultramarathon
CONTACT:
CLASS:PUBLIC
PRIORITY:5
TRANSP:OPAQUE
END:VEVENT
END:VCALENDAR
