BEGIN:VCALENDAR
PRODID:-//http://statistik.d-u-v.org//PHP ultracalendar//EN
VERSION:2.0
METHOD:PUBLISH
BEGIN:VEVENT
DTSTAMP:20260423T035937
CREATED:20231120T061429
UID:1776916777.0.83743500-102628@statistik.d-u-v.org
SUMMARY:Hootenanny Endurance Run 8h
DESCRIPTION: Hootenanny Endurance Run 8h\n
  \n
  info[at]rfevents.com
DTSTART:20231021T000000
DTEND:00000000T235900
LOCATION:Gregory, MI\, USA
URL:https://runningfitevents.redpodium.com/2022-hootenanny-endurance-run
CATEGORIES:Ultramarathon
CONTACT:
CLASS:PUBLIC
PRIORITY:5
TRANSP:OPAQUE
END:VEVENT
END:VCALENDAR
