BEGIN:VCALENDAR
PRODID:-//http://statistik.d-u-v.org//PHP ultracalendar//EN
VERSION:2.0
METHOD:PUBLISH
BEGIN:VEVENT
DTSTAMP:20260426T031649
CREATED:20231119T045811
UID:1777173409.0.71291100-102614@statistik.d-u-v.org
SUMMARY:IEST 10 Hour Challenge
DESCRIPTION: IEST 10 Hour Challenge\n
  \n
  hi[at]iest.run
DTSTART:20231126T080000
DTEND:20231126T180000
LOCATION:Hong Kong\, HKG
URL:https://iest.run/10h/
CATEGORIES:Ultramarathon
CONTACT:
CLASS:PUBLIC
PRIORITY:5
TRANSP:OPAQUE
END:VEVENT
END:VCALENDAR
