BEGIN:VCALENDAR
PRODID:-//http://statistik.d-u-v.org//PHP ultracalendar//EN
VERSION:2.0
METHOD:PUBLISH
BEGIN:VEVENT
DTSTAMP:20260424T161700
CREATED:20231119T145047
UID:1777047420.0.77105300-102613@statistik.d-u-v.org
SUMMARY:Creemore Vertical Challenge 55 km Trail Run
DESCRIPTION: Creemore Vertical Challenge 55 km Trail Run\n
  Kathy Webber\n
  run[at]n89.ca
DTSTART:20241019T080000
DTEND:00000000T235900
LOCATION:Creemore, ON\, CAN
URL:https://n89.ca/trail-courses/creemore-vertical-challenge-2024/
CATEGORIES:Ultramarathon
CONTACT:Kathy Webber
CLASS:PUBLIC
PRIORITY:5
TRANSP:OPAQUE
END:VEVENT
END:VCALENDAR
