BEGIN:VCALENDAR
PRODID:-//http://statistik.d-u-v.org//PHP ultracalendar//EN
VERSION:2.0
METHOD:PUBLISH
BEGIN:VEVENT
DTSTAMP:20260422T020830
CREATED:20231119T143518
UID:1776823710.0.30741700-102603@statistik.d-u-v.org
SUMMARY:Zoborskou Lesostepou
DESCRIPTION: Zoborskou Lesostepou\n
  Ladislav Ledényi\n
  info[at]zoborskoulesostepou.sk
DTSTART:20230915T080000
DTEND:00000000T235900
LOCATION:Nitra\, SVK
URL:https://zoborskoulesostepou.sk/
CATEGORIES:Ultramarathon
CONTACT:Ladislav Ledényi
CLASS:PUBLIC
PRIORITY:5
TRANSP:OPAQUE
END:VEVENT
END:VCALENDAR
