BEGIN:VCALENDAR
PRODID:-//http://statistik.d-u-v.org//PHP ultracalendar//EN
VERSION:2.0
METHOD:PUBLISH
BEGIN:VEVENT
DTSTAMP:20260423T020650
CREATED:20231118T100052
UID:1776910010.0.22010100-102560@statistik.d-u-v.org
SUMMARY:Devil's Den Ultra 12h
DESCRIPTION: Devil's Den Ultra 12h\n
  \n
  jrmosel[at]racemozey.com
DTSTART:20241012T060000
DTEND:00000000T235900
LOCATION:Bradford, VT\, USA
URL:https://diem.life/racemozey178/devil-s-den-ultra/965/66463
CATEGORIES:Ultramarathon
CONTACT:
CLASS:PUBLIC
PRIORITY:5
TRANSP:OPAQUE
END:VEVENT
END:VCALENDAR
