BEGIN:VCALENDAR
PRODID:-//http://statistik.d-u-v.org//PHP ultracalendar//EN
VERSION:2.0
METHOD:PUBLISH
BEGIN:VEVENT
DTSTAMP:20260423T020629
CREATED:20231118T075941
UID:1776909989.0.22356500-102554@statistik.d-u-v.org
SUMMARY:Indian Creek Fifties - 55 Km
DESCRIPTION: Indian Creek Fifties - 55 Km\n
  Race Director John Lacroix\n
  sherpajohn[at]gmail.com
DTSTART:20241012T080000
DTEND:00000000T235900
LOCATION:Sedalia, CO\, USA
URL:http://humanpotentialrunning.com/races/indian-creek-fifties/
CATEGORIES:Ultramarathon
CONTACT:Race Director John Lacroix
CLASS:PUBLIC
PRIORITY:5
TRANSP:OPAQUE
END:VEVENT
END:VCALENDAR
