BEGIN:VCALENDAR
PRODID:-//http://statistik.d-u-v.org//PHP ultracalendar//EN
VERSION:2.0
METHOD:PUBLISH
BEGIN:VEVENT
DTSTAMP:20260420T044140
CREATED:20231118T072130
UID:1776660100.0.57173500-102550@statistik.d-u-v.org
SUMMARY:Moab 240 Endurance Run
DESCRIPTION: Moab 240 Endurance Run\n
  Candice Burt\n
  riley[at]destinationtrailrun.com
DTSTART:20241011T000000
DTEND:20241015T235900
LOCATION:Moab, UT\, USA
URL:https://www.destinationtrailrun.com/moab
CATEGORIES:Ultramarathon
CONTACT:Candice Burt
CLASS:PUBLIC
PRIORITY:5
TRANSP:OPAQUE
END:VEVENT
END:VCALENDAR
