BEGIN:VCALENDAR
PRODID:-//http://statistik.d-u-v.org//PHP ultracalendar//EN
VERSION:2.0
METHOD:PUBLISH
BEGIN:VEVENT
DTSTAMP:20260426T001420
CREATED:20110303T195126
UID:1777162460.0.50284300-10254@statistik.d-u-v.org
SUMMARY:The North Face 100 Singapore
DESCRIPTION: The North Face 100 Singapore\n
  \n
  
DTSTART:20101009T000000
DTEND:20101009T235900
LOCATION:Singapore\, SGP
URL:http://www.thenorthface100.com.sg/
CATEGORIES:Ultramarathon
CONTACT:
CLASS:PUBLIC
PRIORITY:5
TRANSP:OPAQUE
END:VEVENT
END:VCALENDAR
