BEGIN:VCALENDAR
PRODID:-//http://statistik.d-u-v.org//PHP ultracalendar//EN
VERSION:2.0
METHOD:PUBLISH
BEGIN:VEVENT
DTSTAMP:20260420T053138
CREATED:20231117T132613
UID:1776663098.0.77566200-102520@statistik.d-u-v.org
SUMMARY:Lake Yahou 50k
DESCRIPTION: Lake Yahou 50k\n
  \n
  dirtysolestrailraces[at]gmail.com
DTSTART:20241005T060000
DTEND:00000000T235900
LOCATION:Anniston, AL\, USA
URL:https://www.facebook.com/lakeyahou50k
CATEGORIES:Ultramarathon
CONTACT:
CLASS:PUBLIC
PRIORITY:5
TRANSP:OPAQUE
END:VEVENT
END:VCALENDAR
