BEGIN:VCALENDAR
PRODID:-//http://statistik.d-u-v.org//PHP ultracalendar//EN
VERSION:2.0
METHOD:PUBLISH
BEGIN:VEVENT
DTSTAMP:20260419T185716
CREATED:20231117T045444
UID:1776625036.0.90302500-102496@statistik.d-u-v.org
SUMMARY:Barkcamp 40 Mile Race
DESCRIPTION: Barkcamp 40 Mile Race\n
  \n
  info[at]thebarkcamprace.net
DTSTART:20231007T060000
DTEND:00000000T235900
LOCATION:Belmont, OH\, USA
URL:http://www.thebarkcamprace.net/index.html
CATEGORIES:Ultramarathon
CONTACT:
CLASS:PUBLIC
PRIORITY:5
TRANSP:OPAQUE
END:VEVENT
END:VCALENDAR
