BEGIN:VCALENDAR
PRODID:-//http://statistik.d-u-v.org//PHP ultracalendar//EN
VERSION:2.0
METHOD:PUBLISH
BEGIN:VEVENT
DTSTAMP:20260419T192114
CREATED:20231117T045134
UID:1776626474.0.13979400-102494@statistik.d-u-v.org
SUMMARY:DC Peaks 50 Mi
DESCRIPTION: DC Peaks 50 Mi\n
  \n
  
DTSTART:20241005T000000
DTEND:00000000T235900
LOCATION:Kaysville, UT\, USA
URL:https://dcpeaks50.com/
CATEGORIES:Ultramarathon
CONTACT:
CLASS:PUBLIC
PRIORITY:5
TRANSP:OPAQUE
END:VEVENT
END:VCALENDAR
