BEGIN:VCALENDAR
PRODID:-//http://statistik.d-u-v.org//PHP ultracalendar//EN
VERSION:2.0
METHOD:PUBLISH
BEGIN:VEVENT
DTSTAMP:20260419T164557
CREATED:20231111T120559
UID:1776617157.0.03264200-102488@statistik.d-u-v.org
SUMMARY:BUFF 6H
DESCRIPTION: BUFF 6H\n
  Máté Baranyai\n
  balatonfuredac2019[at]gmail.com;info[at]runion.eu
DTSTART:20240928T100000
DTEND:00000000T235900
LOCATION:Balatonfüred\, HUN
URL:https://runion.eu/event/buff-balatoni-ultrafuto-fesztival-2024/
CATEGORIES:Ultramarathon
CONTACT:Máté Baranyai
CLASS:PUBLIC
PRIORITY:5
TRANSP:OPAQUE
END:VEVENT
END:VCALENDAR
