BEGIN:VCALENDAR
PRODID:-//http://statistik.d-u-v.org//PHP ultracalendar//EN
VERSION:2.0
METHOD:PUBLISH
BEGIN:VEVENT
DTSTAMP:20260422T222535
CREATED:20231105T231310
UID:1776896735.0.35456300-102486@statistik.d-u-v.org
SUMMARY:IronHike Endurance Series Fall - Mohawk Mountain - Olympus Mons
DESCRIPTION: IronHike Endurance Series Fall - Mohawk Mountain - Olympus Mons\n
  John Kolker\n
  johnk[at]ironhike.com
DTSTART:20241005T070000
DTEND:20241008T190000
LOCATION:Cornwall, CT\, USA
URL:https://www.ironhike.com/
CATEGORIES:Ultramarathon
CONTACT:John Kolker
CLASS:PUBLIC
PRIORITY:5
TRANSP:OPAQUE
END:VEVENT
END:VCALENDAR
