BEGIN:VCALENDAR
PRODID:-//http://statistik.d-u-v.org//PHP ultracalendar//EN
VERSION:2.0
METHOD:PUBLISH
BEGIN:VEVENT
DTSTAMP:20260423T093856
CREATED:20231114T123934
UID:1776937136.0.47724200-102483@statistik.d-u-v.org
SUMMARY:Bad Salzufler Stadtforst Ultra
DESCRIPTION: Bad Salzufler Stadtforst Ultra\n
  Matthias Probst\n
  matthias[at]probst.tv
DTSTART:20240224T090000
DTEND:00000000T235900
LOCATION:Bad Salzuflen\, GER
URL:https://my.raceresult.com/266893/
CATEGORIES:Ultramarathon
CONTACT:Matthias Probst
CLASS:PUBLIC
PRIORITY:5
TRANSP:OPAQUE
END:VEVENT
END:VCALENDAR
