BEGIN:VCALENDAR
PRODID:-//http://statistik.d-u-v.org//PHP ultracalendar//EN
VERSION:2.0
METHOD:PUBLISH
BEGIN:VEVENT
DTSTAMP:20260419T200600
CREATED:20231115T134840
UID:1776629160.0.25907500-102442@statistik.d-u-v.org
SUMMARY:Saltire 12
DESCRIPTION: Saltire 12\n
  \n
  
DTSTART:20230610T100000
DTEND:00000000T235900
LOCATION:Strachan\, GBR
URL:https://www.saltire24.co.uk
CATEGORIES:Ultramarathon
CONTACT:
CLASS:PUBLIC
PRIORITY:5
TRANSP:OPAQUE
END:VEVENT
END:VCALENDAR
