BEGIN:VCALENDAR
PRODID:-//http://statistik.d-u-v.org//PHP ultracalendar//EN
VERSION:2.0
METHOD:PUBLISH
BEGIN:VEVENT
DTSTAMP:20260420T044117
CREATED:20231113T083231
UID:1776660077.0.06250900-102395@statistik.d-u-v.org
SUMMARY:Mt. Umunhum Trail Conquest - Fall
DESCRIPTION: Mt. Umunhum Trail Conquest - Fall\n
  \n
  troy[at]tctruns.com
DTSTART:20241012T000000
DTEND:00000000T235900
LOCATION:San Jose, CA\, USA
URL:https://tctruns.com/
CATEGORIES:Ultramarathon
CONTACT:
CLASS:PUBLIC
PRIORITY:5
TRANSP:OPAQUE
END:VEVENT
END:VCALENDAR
