BEGIN:VCALENDAR
PRODID:-//http://statistik.d-u-v.org//PHP ultracalendar//EN
VERSION:2.0
METHOD:PUBLISH
BEGIN:VEVENT
DTSTAMP:20260421T234926
CREATED:20231107T220814
UID:1776815366.0.17354000-102314@statistik.d-u-v.org
SUMMARY:Von Dom zu Dom
DESCRIPTION: Von Dom zu Dom\n
  \n
  olaf.haesler[at]nord-com.net
DTSTART:20241031T084500
DTEND:00000000T235900
LOCATION:Verden\, GER
URL:https://my.raceresult.com/268814/
CATEGORIES:Ultramarathon
CONTACT:
CLASS:PUBLIC
PRIORITY:5
TRANSP:OPAQUE
END:VEVENT
END:VCALENDAR
