BEGIN:VCALENDAR
PRODID:-//http://statistik.d-u-v.org//PHP ultracalendar//EN
VERSION:2.0
METHOD:PUBLISH
BEGIN:VEVENT
DTSTAMP:20260419T164959
CREATED:20231108T174217
UID:1776617399.0.81804600-102290@statistik.d-u-v.org
SUMMARY:Fishtail 100 - 50km
DESCRIPTION: Fishtail 100 - 50km\n
  Jagan Timilsina\n
  fishtailrace[at]gmail.com; himalayantrailrunning[at]gmail.com
DTSTART:20240518T054000
DTEND:00000000T235900
LOCATION:Pokhara\, NEP
URL:https://himalayantrailrunning.com/events/fishtail-100-ultra
CATEGORIES:Ultramarathon
CONTACT:Jagan Timilsina
CLASS:PUBLIC
PRIORITY:5
TRANSP:OPAQUE
END:VEVENT
END:VCALENDAR
