BEGIN:VCALENDAR
PRODID:-//http://statistik.d-u-v.org//PHP ultracalendar//EN
VERSION:2.0
METHOD:PUBLISH
BEGIN:VEVENT
DTSTAMP:20260420T044158
CREATED:20231106T123103
UID:1776660118.0.59871700-102227@statistik.d-u-v.org
SUMMARY:Wien - Rundumadum 100km
DESCRIPTION: Wien - Rundumadum 100km\n
  Markus Michelitsch\n
  office[at]wien-rundumadum.at
DTSTART:20231104T060000
DTEND:20231105T053000
LOCATION:Wien\, AUT
URL:http://www.wien-rundumadum.at/
CATEGORIES:Ultramarathon
CONTACT:Markus Michelitsch
CLASS:PUBLIC
PRIORITY:5
TRANSP:OPAQUE
END:VEVENT
END:VCALENDAR
